BEGIN:VCALENDAR
VERSION:2.0
PRODID:-//Geographenkeller e.V. - ECPv6.15.20//NONSGML v1.0//EN
CALSCALE:GREGORIAN
METHOD:PUBLISH
X-WR-CALNAME:Geographenkeller e.V.
X-ORIGINAL-URL:https://geographenkeller.de
X-WR-CALDESC:Veranstaltungen für Geographenkeller e.V.
REFRESH-INTERVAL;VALUE=DURATION:PT1H
X-Robots-Tag:noindex
X-PUBLISHED-TTL:PT1H
BEGIN:VTIMEZONE
TZID:UTC
BEGIN:STANDARD
TZOFFSETFROM:+0000
TZOFFSETTO:+0000
TZNAME:UTC
DTSTART:20220101T000000
END:STANDARD
END:VTIMEZONE
BEGIN:VEVENT
DTSTART;TZID=UTC:20231201T220000
DTEND;TZID=UTC:20231202T030000
DTSTAMP:20260425T051211
CREATED:20231120T200527Z
LAST-MODIFIED:20231123T131959Z
UID:517-1701468000-1701486000@geographenkeller.de
SUMMARY:Bad-Taste Party
DESCRIPTION:Es ist wieder Zeit für eine Bad-Taste Party – das ruft nach euch in den schrillsten\, buntesten und hässlichsten Klamotten.\nKommt vorbei und feiert mit den Helden in Strumpfhosen zur passenden Musik im schlechten Stil. \n 
URL:https://geographenkeller.de/event/bad-taste-party/
LOCATION:Freitagsschwof\, Friedrich-Ludwig-Jahn-Straße 16\, Greifswald\, Mecklenburg-Vorpommern\, 17489\, Deutschland
ATTACH;FMTTYPE=image/jpeg:https://geographenkeller.de/wp-content/uploads/2023/11/Bad_taste_party_Flyer_Facebook-12.2023.jpg
ORGANIZER;CN="Geographenkeller e. V.":MAILTO:mail@geokeller.de
END:VEVENT
END:VCALENDAR