BEGIN:VCALENDAR
VERSION:2.0
PRODID:-//Geographenkeller e.V. - ECPv6.15.20//NONSGML v1.0//EN
CALSCALE:GREGORIAN
METHOD:PUBLISH
X-ORIGINAL-URL:https://geographenkeller.de
X-WR-CALDESC:Veranstaltungen für Geographenkeller e.V.
REFRESH-INTERVAL;VALUE=DURATION:PT1H
X-Robots-Tag:noindex
X-PUBLISHED-TTL:PT1H
BEGIN:VTIMEZONE
TZID:UTC
BEGIN:STANDARD
TZOFFSETFROM:+0000
TZOFFSETTO:+0000
TZNAME:UTC
DTSTART:20220101T000000
END:STANDARD
END:VTIMEZONE
BEGIN:VEVENT
DTSTART;TZID=UTC:20231206T190000
DTEND;TZID=UTC:20231207T000000
DTSTAMP:20260425T051245
CREATED:20231203T201848Z
LAST-MODIFIED:20231203T201848Z
UID:557-1701889200-1701907200@geographenkeller.de
SUMMARY:Barabend
DESCRIPTION:Wie jede Woche findet auch am 06. Dezember wieder unser Bar- und Spieleabend statt. Also kommt vorbei und genießt bei einem Getränk den Abend.
URL:https://geographenkeller.de/event/barabend/
LOCATION:Studentenclub Geographenkeller\, Friedrich-Ludwig-Jahn-Straße 16\, Greifswald\, Mecklenburg-Vorpommern\, 17489\, Deutschland
CATEGORIES:Barabend
ATTACH;FMTTYPE=image/jpeg:https://geographenkeller.de/wp-content/uploads/2023/09/WhatsApp-Image-2023-09-28-at-18.12.45-e1697713526429.jpeg
END:VEVENT
END:VCALENDAR