BEGIN:VCALENDAR
VERSION:2.0
PRODID:-//Geographenkeller e.V. - ECPv6.15.20//NONSGML v1.0//EN
CALSCALE:GREGORIAN
METHOD:PUBLISH
X-ORIGINAL-URL:https://geographenkeller.de
X-WR-CALDESC:Veranstaltungen für Geographenkeller e.V.
REFRESH-INTERVAL;VALUE=DURATION:PT1H
X-Robots-Tag:noindex
X-PUBLISHED-TTL:PT1H
BEGIN:VTIMEZONE
TZID:Europe/Paris
BEGIN:DAYLIGHT
TZOFFSETFROM:+0100
TZOFFSETTO:+0200
TZNAME:CEST
DTSTART:20230326T010000
END:DAYLIGHT
BEGIN:STANDARD
TZOFFSETFROM:+0200
TZOFFSETTO:+0100
TZNAME:CET
DTSTART:20231029T010000
END:STANDARD
BEGIN:DAYLIGHT
TZOFFSETFROM:+0100
TZOFFSETTO:+0200
TZNAME:CEST
DTSTART:20240331T010000
END:DAYLIGHT
BEGIN:STANDARD
TZOFFSETFROM:+0200
TZOFFSETTO:+0100
TZNAME:CET
DTSTART:20241027T010000
END:STANDARD
BEGIN:DAYLIGHT
TZOFFSETFROM:+0100
TZOFFSETTO:+0200
TZNAME:CEST
DTSTART:20250330T010000
END:DAYLIGHT
BEGIN:STANDARD
TZOFFSETFROM:+0200
TZOFFSETTO:+0100
TZNAME:CET
DTSTART:20251026T010000
END:STANDARD
END:VTIMEZONE
BEGIN:VEVENT
DTSTART;TZID=Europe/Paris:20240126T220000
DTEND;TZID=Europe/Paris:20240127T030000
DTSTAMP:20260425T034634
CREATED:20240115T122718Z
LAST-MODIFIED:20240122T111016Z
UID:647-1706306400-1706324400@geographenkeller.de
SUMMARY:00s Party
DESCRIPTION:Zum Abschluss des Monats laden wir euch zur Musik diesen Jahrhunderts ein. Also kommt vorbei und feiert mit uns! \nEinlass ist um 22:00 Uhr für 2 €. Und auch hier gilt: Kein Perso\, keine Party!
URL:https://geographenkeller.de/event/00s-party/
LOCATION:Freitagsschwof\, Friedrich-Ludwig-Jahn-Straße 16\, Greifswald\, Mecklenburg-Vorpommern\, 17489\, Deutschland
CATEGORIES:Freitagsschwof,Party
ATTACH;FMTTYPE=image/jpeg:https://geographenkeller.de/wp-content/uploads/2024/01/2000er_Flyer_Facebook01.2024.jpg
END:VEVENT
END:VCALENDAR