BEGIN:VCALENDAR
VERSION:2.0
PRODID:-//Geographenkeller e.V. - ECPv6.15.20//NONSGML v1.0//EN
CALSCALE:GREGORIAN
METHOD:PUBLISH
X-WR-CALNAME:Geographenkeller e.V.
X-ORIGINAL-URL:https://geographenkeller.de
X-WR-CALDESC:Veranstaltungen für Geographenkeller e.V.
REFRESH-INTERVAL;VALUE=DURATION:PT1H
X-Robots-Tag:noindex
X-PUBLISHED-TTL:PT1H
BEGIN:VTIMEZONE
TZID:Europe/Paris
BEGIN:DAYLIGHT
TZOFFSETFROM:+0100
TZOFFSETTO:+0200
TZNAME:CEST
DTSTART:20230326T010000
END:DAYLIGHT
BEGIN:STANDARD
TZOFFSETFROM:+0200
TZOFFSETTO:+0100
TZNAME:CET
DTSTART:20231029T010000
END:STANDARD
BEGIN:DAYLIGHT
TZOFFSETFROM:+0100
TZOFFSETTO:+0200
TZNAME:CEST
DTSTART:20240331T010000
END:DAYLIGHT
BEGIN:STANDARD
TZOFFSETFROM:+0200
TZOFFSETTO:+0100
TZNAME:CET
DTSTART:20241027T010000
END:STANDARD
BEGIN:DAYLIGHT
TZOFFSETFROM:+0100
TZOFFSETTO:+0200
TZNAME:CEST
DTSTART:20250330T010000
END:DAYLIGHT
BEGIN:STANDARD
TZOFFSETFROM:+0200
TZOFFSETTO:+0100
TZNAME:CET
DTSTART:20251026T010000
END:STANDARD
END:VTIMEZONE
BEGIN:VEVENT
DTSTART;TZID=Europe/Paris:20240412T220000
DTEND;TZID=Europe/Paris:20240413T030000
DTSTAMP:20260424T220512
CREATED:20240401T154629Z
LAST-MODIFIED:20240402T164138Z
UID:818-1712959200-1712977200@geographenkeller.de
SUMMARY:Punk is not dead - Green Day & Co.
DESCRIPTION:Wir beleben besten PopPunk im Keller. Feiert zu Green Day\, blink-182 und Jimmy Eat World\, aufgelegt von DJ Altmeyer. \nBeginn ist am 12.04.2024 um 22:00 Uhr. Der Eintritt ist wie immer 2€. Und auch hier gilt: Kein Ausweis\, keine Party!
URL:https://geographenkeller.de/event/punk-is-not-dead-green-day-co/
LOCATION:Studentenclub Geographenkeller\, Friedrich-Ludwig-Jahn-Straße 16\, Greifswald\, Mecklenburg-Vorpommern\, 17489\, Deutschland
CATEGORIES:Freitagsschwof,Party
ATTACH;FMTTYPE=image/jpeg:https://geographenkeller.de/wp-content/uploads/2024/04/E6AF98C7-97B1-4F7B-80D7-9A8621B78AFB.jpeg
END:VEVENT
END:VCALENDAR