BEGIN:VCALENDAR
VERSION:2.0
PRODID:-//Geographenkeller e.V. - ECPv6.15.20//NONSGML v1.0//EN
CALSCALE:GREGORIAN
METHOD:PUBLISH
X-ORIGINAL-URL:https://geographenkeller.de
X-WR-CALDESC:Veranstaltungen für Geographenkeller e.V.
REFRESH-INTERVAL;VALUE=DURATION:PT1H
X-Robots-Tag:noindex
X-PUBLISHED-TTL:PT1H
BEGIN:VTIMEZONE
TZID:Europe/Berlin
BEGIN:DAYLIGHT
TZOFFSETFROM:+0100
TZOFFSETTO:+0200
TZNAME:CEST
DTSTART:20230326T010000
END:DAYLIGHT
BEGIN:STANDARD
TZOFFSETFROM:+0200
TZOFFSETTO:+0100
TZNAME:CET
DTSTART:20231029T010000
END:STANDARD
BEGIN:DAYLIGHT
TZOFFSETFROM:+0100
TZOFFSETTO:+0200
TZNAME:CEST
DTSTART:20240331T010000
END:DAYLIGHT
BEGIN:STANDARD
TZOFFSETFROM:+0200
TZOFFSETTO:+0100
TZNAME:CET
DTSTART:20241027T010000
END:STANDARD
BEGIN:DAYLIGHT
TZOFFSETFROM:+0100
TZOFFSETTO:+0200
TZNAME:CEST
DTSTART:20250330T010000
END:DAYLIGHT
BEGIN:STANDARD
TZOFFSETFROM:+0200
TZOFFSETTO:+0100
TZNAME:CET
DTSTART:20251026T010000
END:STANDARD
END:VTIMEZONE
BEGIN:VEVENT
DTSTART;TZID=Europe/Berlin:20241007T220000
DTEND;TZID=Europe/Berlin:20241008T040000
DTSTAMP:20260424T101147
CREATED:20240920T112549Z
LAST-MODIFIED:20240924T203704Z
UID:1048-1728338400-1728360000@geographenkeller.de
SUMMARY:Nacht der offenen Clubs
DESCRIPTION:Die „Nacht der offenen Clubs“ findet\, wie jedes Jahr\, wieder am Montag der Erstiwoche statt. Es öffnen wieder der Geographenkeller\, die Kiste und der C9 ihre Tore. Damit habt ihr die Möglichkeit die Studentenclubs direkt zu Beginn der Erstiwoche in all ihrer Vielfalt zu erleben. Bei uns erwartet euch ein Mix aus den besten Hits der 80er\, 90er und 2000er\, präsentiert von DJ Arcos. Wir freuen uns darauf\, euch auf unserer Tanzfläche begrüßen zu dürfen. \nDer Geographenkeller ist ein ehrenamtlich organisierter Verein. Wir organisieren Partys wie diese\, aber auch andere Veranstaltungen ehrenamtlich. Solltest du Interesse haben\, dich bei uns einzubringen und mitzuhelfen\, sprich uns einfach an. Entweder an der Bierbar oder direkt bei uns auf Sitzung. Selbstverständlich kannst du auch erstmal reinschnuppern um zu schauen\, wie es dir gefällt. \nEin kleiner Hinweis: \nErfahrungsgemäß wird die Schlange bei der Nacht der offenen Clubs sehr lang. Seid also zeitig da\, nehmt aufeinander Rücksicht und folgt den Anweisungen unserer Mitglieder. Und wie immer gilt: Kein Perso\, keine Party.
URL:https://geographenkeller.de/event/nacht-der-offenen-clubs-2/
LOCATION:Studentenclub Geographenkeller\, Friedrich-Ludwig-Jahn-Straße 16\, Greifswald\, Mecklenburg-Vorpommern\, 17489\, Deutschland
CATEGORIES:Erstiwoche,Nacht der offenen Clubs,Party
ATTACH;FMTTYPE=image/png:https://geographenkeller.de/wp-content/uploads/2024/09/Logo_50-Jahre-1.png
ORGANIZER;CN="Geographenkeller e. V.":MAILTO:mail@geokeller.de
END:VEVENT
END:VCALENDAR