BEGIN:VCALENDAR
VERSION:2.0
PRODID:-//Geographenkeller e.V. - ECPv6.15.20//NONSGML v1.0//EN
CALSCALE:GREGORIAN
METHOD:PUBLISH
X-ORIGINAL-URL:https://geographenkeller.de
X-WR-CALDESC:Veranstaltungen für Geographenkeller e.V.
REFRESH-INTERVAL;VALUE=DURATION:PT1H
X-Robots-Tag:noindex
X-PUBLISHED-TTL:PT1H
BEGIN:VTIMEZONE
TZID:Europe/Berlin
BEGIN:DAYLIGHT
TZOFFSETFROM:+0100
TZOFFSETTO:+0200
TZNAME:CEST
DTSTART:20230326T010000
END:DAYLIGHT
BEGIN:STANDARD
TZOFFSETFROM:+0200
TZOFFSETTO:+0100
TZNAME:CET
DTSTART:20231029T010000
END:STANDARD
BEGIN:DAYLIGHT
TZOFFSETFROM:+0100
TZOFFSETTO:+0200
TZNAME:CEST
DTSTART:20240331T010000
END:DAYLIGHT
BEGIN:STANDARD
TZOFFSETFROM:+0200
TZOFFSETTO:+0100
TZNAME:CET
DTSTART:20241027T010000
END:STANDARD
BEGIN:DAYLIGHT
TZOFFSETFROM:+0100
TZOFFSETTO:+0200
TZNAME:CEST
DTSTART:20250330T010000
END:DAYLIGHT
BEGIN:STANDARD
TZOFFSETFROM:+0200
TZOFFSETTO:+0100
TZNAME:CET
DTSTART:20251026T010000
END:STANDARD
END:VTIMEZONE
BEGIN:VEVENT
DTSTART;TZID=Europe/Berlin:20240531T220000
DTEND;TZID=Europe/Berlin:20240601T030000
DTSTAMP:20260424T161336
CREATED:20240527T175325Z
LAST-MODIFIED:20240527T175325Z
UID:933-1717192800-1717210800@geographenkeller.de
SUMMARY:Rock Party
DESCRIPTION:Es wird laut\, es wird wild\, es wird Rock! Kommt ab 22:00 Uhr vorbei und tanzt\, bis Ihr nicht mehr könnt. Doch denkt dran: Kein Perso\, keine Party!
URL:https://geographenkeller.de/event/rock-party-2/
LOCATION:Freitagsschwof\, Friedrich-Ludwig-Jahn-Straße 16\, Greifswald\, Mecklenburg-Vorpommern\, 17489\, Deutschland
CATEGORIES:Freitagsschwof,Party
ATTACH;FMTTYPE=image/png:https://geographenkeller.de/wp-content/uploads/2024/05/rock_im_Geokeller_Facebook-Post.png
END:VEVENT
BEGIN:VEVENT
DTSTART;TZID=Europe/Berlin:20240607T220000
DTEND;TZID=Europe/Berlin:20240608T150000
DTSTAMP:20260424T161336
CREATED:20240603T175351Z
LAST-MODIFIED:20240603T175351Z
UID:937-1717797600-1717858800@geographenkeller.de
SUMMARY:Rotaract Aftershow
DESCRIPTION:Bierpong und Party\, was gibt es Besseres für einen Freitag? Wir laden zusammen mit Rotaract Greifswald zur Aftershow des Bookpong Turniers ein. Aufgelegt wird ab 22 Uhr House und Techno.\nWir freuen uns auf Euch!
URL:https://geographenkeller.de/event/rotaract-aftershow/
LOCATION:Studentenclub Geographenkeller\, Friedrich-Ludwig-Jahn-Straße 16\, Greifswald\, Mecklenburg-Vorpommern\, 17489\, Deutschland
CATEGORIES:Freitagsschwof,Party
ATTACH;FMTTYPE=image/png:https://geographenkeller.de/wp-content/uploads/2024/06/Techno__House_Flyer_Facebook07.06.2024.png
END:VEVENT
BEGIN:VEVENT
DTSTART;TZID=Europe/Berlin:20240615T140000
DTEND;TZID=Europe/Berlin:20240616T040000
DTSTAMP:20260424T161336
CREATED:20240613T131957Z
LAST-MODIFIED:20240613T131957Z
UID:986-1718460000-1718510400@geographenkeller.de
SUMMARY:Uni Rave
DESCRIPTION:Kommt zum Uni Rave des C9 und feiert mit unseren Clubs elektronische Musik. Die Hauptveranstaltung findet bei uns im Innenhof statt. Im Anschluss findet die After Show in unseren Hallen statt. Wir freuen uns auf Euch!
URL:https://geographenkeller.de/event/uni-rave/
LOCATION:Studentenclub Geographenkeller\, Friedrich-Ludwig-Jahn-Straße 16\, Greifswald\, Mecklenburg-Vorpommern\, 17489\, Deutschland
CATEGORIES:Party
ATTACH;FMTTYPE=image/jpeg:https://geographenkeller.de/wp-content/uploads/2024/06/01bbc36c-217d-45e0-ae93-95cf6903f3a3-scaled.jpeg
END:VEVENT
BEGIN:VEVENT
DTSTART;TZID=Europe/Berlin:20240618T193000
DTEND;TZID=Europe/Berlin:20240618T220000
DTSTAMP:20260424T161336
CREATED:20240613T132447Z
LAST-MODIFIED:20240613T132447Z
UID:990-1718739000-1718748000@geographenkeller.de
SUMMARY:Börn Konzert
DESCRIPTION:Auch ohne Clubbetrieb – der Keller schläft nicht! Es ist wieder Zeit für ein Konzert. Diesmal spielt die isländische Band Börn in unseren heiligen Hallen.\nBeginn ist am 18.06.2024 um 20:00 Uhr\, Einlass schon um 19:30 Uhr. Der Eintritt kostet 8€. \nKommt also auf ein alkoholfreies Erfrischungsgetränk bei uns vorbei;)
URL:https://geographenkeller.de/event/boern-konzert/
LOCATION:Studentenclub Geographenkeller\, Friedrich-Ludwig-Jahn-Straße 16\, Greifswald\, Mecklenburg-Vorpommern\, 17489\, Deutschland
CATEGORIES:Konzert
ATTACH;FMTTYPE=image/jpeg:https://geographenkeller.de/wp-content/uploads/2024/06/c92b1429-995a-4305-973f-24a8fba10817.jpeg
END:VEVENT
END:VCALENDAR