BEGIN:VCALENDAR
VERSION:2.0
PRODID:-//Geographenkeller e.V. - ECPv6.15.20//NONSGML v1.0//EN
CALSCALE:GREGORIAN
METHOD:PUBLISH
X-ORIGINAL-URL:https://geographenkeller.de
X-WR-CALDESC:Veranstaltungen für Geographenkeller e.V.
REFRESH-INTERVAL;VALUE=DURATION:PT1H
X-Robots-Tag:noindex
X-PUBLISHED-TTL:PT1H
BEGIN:VTIMEZONE
TZID:Europe/Berlin
BEGIN:DAYLIGHT
TZOFFSETFROM:+0100
TZOFFSETTO:+0200
TZNAME:CEST
DTSTART:20230326T010000
END:DAYLIGHT
BEGIN:STANDARD
TZOFFSETFROM:+0200
TZOFFSETTO:+0100
TZNAME:CET
DTSTART:20231029T010000
END:STANDARD
BEGIN:DAYLIGHT
TZOFFSETFROM:+0100
TZOFFSETTO:+0200
TZNAME:CEST
DTSTART:20240331T010000
END:DAYLIGHT
BEGIN:STANDARD
TZOFFSETFROM:+0200
TZOFFSETTO:+0100
TZNAME:CET
DTSTART:20241027T010000
END:STANDARD
BEGIN:DAYLIGHT
TZOFFSETFROM:+0100
TZOFFSETTO:+0200
TZNAME:CEST
DTSTART:20250330T010000
END:DAYLIGHT
BEGIN:STANDARD
TZOFFSETFROM:+0200
TZOFFSETTO:+0100
TZNAME:CET
DTSTART:20251026T010000
END:STANDARD
END:VTIMEZONE
BEGIN:VEVENT
DTSTART;TZID=Europe/Berlin:20240501T100000
DTEND;TZID=Europe/Berlin:20240501T180000
DTSTAMP:20260425T132657
CREATED:20240220T151024Z
LAST-MODIFIED:20240221T081350Z
UID:735-1714557600-1714586400@geographenkeller.de
SUMMARY:Fussballturnier
DESCRIPTION:Es ist wieder so weit\, unser jährliches Fussballturnier findet statt! Bildet mit euren Freunden ein Team und startet sportlich in den Mai! Für Verpflegung und Spaß ist gesorgt. Die Teilnahmegebühr beträgt 15€. Max. 2 Nicht-Studierende pro Team. \nWeitere Infos & Anmeldung hier: \nhttps://geographenkeller.de/veranstaltungsuebersicht/fussballturnier-1-mai-2024/
URL:https://geographenkeller.de/event/fussballturnier-1-mai/
LOCATION:Sportplatz am Dubnaring\, Sportplatz\, Eldenaer Wende 1A\, Greifswald\, Mecklenburg-Vorpommern\, 17491\, Deutschland
CATEGORIES:Sport
ATTACH;FMTTYPE=image/jpeg:https://geographenkeller.de/wp-content/uploads/2024/02/Flyer_Fussballturnier.jpg
ORGANIZER;CN="Geographenkeller e. V.":MAILTO:mail@geokeller.de
END:VEVENT
END:VCALENDAR