BEGIN:VCALENDAR
VERSION:2.0
PRODID:-//Geographenkeller e.V. - ECPv6.15.20//NONSGML v1.0//EN
CALSCALE:GREGORIAN
METHOD:PUBLISH
X-WR-CALNAME:Geographenkeller e.V.
X-ORIGINAL-URL:https://geographenkeller.de
X-WR-CALDESC:Veranstaltungen für Geographenkeller e.V.
REFRESH-INTERVAL;VALUE=DURATION:PT1H
X-Robots-Tag:noindex
X-PUBLISHED-TTL:PT1H
BEGIN:VTIMEZONE
TZID:Europe/Helsinki
BEGIN:DAYLIGHT
TZOFFSETFROM:+0200
TZOFFSETTO:+0300
TZNAME:EEST
DTSTART:20220327T010000
END:DAYLIGHT
BEGIN:STANDARD
TZOFFSETFROM:+0300
TZOFFSETTO:+0200
TZNAME:EET
DTSTART:20221030T010000
END:STANDARD
BEGIN:DAYLIGHT
TZOFFSETFROM:+0200
TZOFFSETTO:+0300
TZNAME:EEST
DTSTART:20230326T010000
END:DAYLIGHT
BEGIN:STANDARD
TZOFFSETFROM:+0300
TZOFFSETTO:+0200
TZNAME:EET
DTSTART:20231029T010000
END:STANDARD
BEGIN:DAYLIGHT
TZOFFSETFROM:+0200
TZOFFSETTO:+0300
TZNAME:EEST
DTSTART:20240331T010000
END:DAYLIGHT
BEGIN:STANDARD
TZOFFSETFROM:+0300
TZOFFSETTO:+0200
TZNAME:EET
DTSTART:20241027T010000
END:STANDARD
END:VTIMEZONE
BEGIN:VEVENT
DTSTART;TZID=Europe/Helsinki:20231004T190000
DTEND;TZID=Europe/Helsinki:20231005T000000
DTSTAMP:20260426T041759
CREATED:20230928T145417Z
LAST-MODIFIED:20230928T162413Z
UID:271-1696446000-1696464000@geographenkeller.de
SUMMARY:Bar- und Spieleabend
DESCRIPTION:Beim Bar- und Spieleabend habt ihr die Möglichkeit\, mit Freunden Karten- und Brettspiele zu spielen\, zu kickern und neue Leute kennenzulernen.
URL:https://geographenkeller.de/event/bar-und-spieleabend/
LOCATION:Studentenclub Geographenkeller\, Friedrich-Ludwig-Jahn-Straße 16\, Greifswald\, Mecklenburg-Vorpommern\, 17489\, Deutschland
CATEGORIES:Barabend
ATTACH;FMTTYPE=image/jpeg:https://geographenkeller.de/wp-content/uploads/2023/09/WhatsApp-Image-2023-09-28-at-18.12.45-e1697713526429.jpeg
ORGANIZER;CN="Geographenkeller e. V.":MAILTO:mail@geokeller.de
END:VEVENT
BEGIN:VEVENT
DTSTART;TZID=Europe/Helsinki:20231018T190000
DTEND;TZID=Europe/Helsinki:20231019T000000
DTSTAMP:20260426T041759
CREATED:20231011T150636Z
LAST-MODIFIED:20231011T151745Z
UID:384-1697655600-1697673600@geographenkeller.de
SUMMARY:Bar- und Spieleabend
DESCRIPTION:Beim Bar- und Spieleabend habt ihr die Möglichkeit\, mit Freunden Karten- und Brettspiele zu spielen\, zu kickern und neue Leute kennenzulernen.
URL:https://geographenkeller.de/event/bar-und-spieleabend-2/
LOCATION:Studentenclub Geographenkeller\, Friedrich-Ludwig-Jahn-Straße 16\, Greifswald\, Mecklenburg-Vorpommern\, 17489\, Deutschland
CATEGORIES:Barabend
ATTACH;FMTTYPE=image/jpeg:https://geographenkeller.de/wp-content/uploads/2023/09/WhatsApp-Image-2023-09-28-at-18.12.45-e1697713526429.jpeg
ORGANIZER;CN="Geographenkeller e. V.":MAILTO:mail@geokeller.de
END:VEVENT
BEGIN:VEVENT
DTSTART;TZID=Europe/Helsinki:20231025T190000
DTEND;TZID=Europe/Helsinki:20231026T000000
DTSTAMP:20260426T041759
CREATED:20231013T163223Z
LAST-MODIFIED:20231013T163223Z
UID:396-1698260400-1698278400@geographenkeller.de
SUMMARY:Bar- und Spieleabend
DESCRIPTION:Beim Bar- und Spieleabend habt ihr die Möglichkeit\, mit Freunden Karten- und Brettspiele zu spielen\, zu kickern und neue Leute kennenzulernen.
URL:https://geographenkeller.de/event/bar-und-spieleabend-3/
LOCATION:Studentenclub Geographenkeller\, Friedrich-Ludwig-Jahn-Straße 16\, Greifswald\, Mecklenburg-Vorpommern\, 17489\, Deutschland
CATEGORIES:Barabend
ATTACH;FMTTYPE=image/jpeg:https://geographenkeller.de/wp-content/uploads/2023/09/WhatsApp-Image-2023-09-28-at-18.12.45-e1697713526429.jpeg
ORGANIZER;CN="Geographenkeller e. V.":MAILTO:mail@geokeller.de
END:VEVENT
END:VCALENDAR