BEGIN:VCALENDAR
VERSION:2.0
PRODID:-//Geographenkeller e.V. - ECPv6.15.20//NONSGML v1.0//EN
CALSCALE:GREGORIAN
METHOD:PUBLISH
X-WR-CALNAME:Geographenkeller e.V.
X-ORIGINAL-URL:https://geographenkeller.de
X-WR-CALDESC:Veranstaltungen für Geographenkeller e.V.
REFRESH-INTERVAL;VALUE=DURATION:PT1H
X-Robots-Tag:noindex
X-PUBLISHED-TTL:PT1H
BEGIN:VTIMEZONE
TZID:Europe/Helsinki
BEGIN:DAYLIGHT
TZOFFSETFROM:+0200
TZOFFSETTO:+0300
TZNAME:EEST
DTSTART:20220327T010000
END:DAYLIGHT
BEGIN:STANDARD
TZOFFSETFROM:+0300
TZOFFSETTO:+0200
TZNAME:EET
DTSTART:20221030T010000
END:STANDARD
BEGIN:DAYLIGHT
TZOFFSETFROM:+0200
TZOFFSETTO:+0300
TZNAME:EEST
DTSTART:20230326T010000
END:DAYLIGHT
BEGIN:STANDARD
TZOFFSETFROM:+0300
TZOFFSETTO:+0200
TZNAME:EET
DTSTART:20231029T010000
END:STANDARD
BEGIN:DAYLIGHT
TZOFFSETFROM:+0200
TZOFFSETTO:+0300
TZNAME:EEST
DTSTART:20240331T010000
END:DAYLIGHT
BEGIN:STANDARD
TZOFFSETFROM:+0300
TZOFFSETTO:+0200
TZNAME:EET
DTSTART:20241027T010000
END:STANDARD
END:VTIMEZONE
BEGIN:VTIMEZONE
TZID:UTC
BEGIN:STANDARD
TZOFFSETFROM:+0000
TZOFFSETTO:+0000
TZNAME:UTC
DTSTART:20220101T000000
END:STANDARD
END:VTIMEZONE
BEGIN:VEVENT
DTSTART;TZID=Europe/Helsinki:20231006T220000
DTEND;TZID=Europe/Helsinki:20231007T040000
DTSTAMP:20260425T161917
CREATED:20230928T132713Z
LAST-MODIFIED:20230928T162356Z
UID:255-1696629600-1696651200@geographenkeller.de
SUMMARY:House Remixe & Dance Covers
DESCRIPTION:House Remixes und Dancecovers
URL:https://geographenkeller.de/event/freitagsschwof-2/
LOCATION:Studentenclub Geographenkeller\, Friedrich-Ludwig-Jahn-Straße 16\, Greifswald\, Mecklenburg-Vorpommern\, 17489\, Deutschland
CATEGORIES:Freitagsschwof
ATTACH;FMTTYPE=image/png:https://geographenkeller.de/wp-content/uploads/2023/09/House_Insta.png
ORGANIZER;CN="Geographenkeller e. V.":MAILTO:mail@geokeller.de
END:VEVENT
BEGIN:VEVENT
DTSTART;TZID=UTC:20231009T220000
DTEND;TZID=UTC:20231010T040000
DTSTAMP:20260425T161917
CREATED:20230928T160133Z
LAST-MODIFIED:20231001T113257Z
UID:274-1696888800-1696910400@geographenkeller.de
SUMMARY:Nacht der offenen Clubs
DESCRIPTION:Es ist wieder Erstiwoche und auch dieses Jahr gibt es wieder eine Nacht der offenen Clubs. Bei uns laufen\, wie fast jedes Jahr\, die besten Songs der 80er\, 90er und 2000er. Präsentiert werden diese euch von „The Reaper“. Seid früh genug da\, denn erfahrungsgemäß ist der Andrang groß. Außerdem wird wieder ein Shuttlebus zwischen den Clubs fahren.
URL:https://geographenkeller.de/event/nacht-der-offenen-clubs/
LOCATION:Studentenclub Geographenkeller\, Friedrich-Ludwig-Jahn-Straße 16\, Greifswald\, Mecklenburg-Vorpommern\, 17489\, Deutschland
CATEGORIES:Erstiwoche,Nacht der offenen Clubs
ATTACH;FMTTYPE=image/jpeg:https://geographenkeller.de/wp-content/uploads/2023/09/WhatsApp-Image-2023-09-28-at-19.29.00.jpeg
ORGANIZER;CN="Geographenkeller e. V.":MAILTO:mail@geokeller.de
END:VEVENT
BEGIN:VEVENT
DTSTART;TZID=Europe/Helsinki:20231011T000000
DTEND;TZID=Europe/Helsinki:20231011T033000
DTSTAMP:20260425T161917
CREATED:20231001T113026Z
LAST-MODIFIED:20231001T113026Z
UID:340-1696982400-1696995000@geographenkeller.de
SUMMARY:Party der Geographie
DESCRIPTION:Der FSR Geographie lädt ab 00.00 Uhr öffentlich zu ihrer Erstiwochenparty ein. Um Verwirrung zu vermeiden: Die Party findet in der Nacht vom 10.10. auf den 11.10. statt.
URL:https://geographenkeller.de/event/party-der-geographie/
LOCATION:Studentenclub Geographenkeller\, Friedrich-Ludwig-Jahn-Straße 16\, Greifswald\, Mecklenburg-Vorpommern\, 17489\, Deutschland
CATEGORIES:Erstiwoche,Party
ATTACH;FMTTYPE=image/png:https://geographenkeller.de/wp-content/uploads/2023/09/Erstiwoche-2023.png
ORGANIZER;CN="Geographenkeller e. V.":MAILTO:mail@geokeller.de
END:VEVENT
BEGIN:VEVENT
DTSTART;TZID=Europe/Helsinki:20231012T230000
DTEND;TZID=Europe/Helsinki:20231013T033000
DTSTAMP:20260425T161917
CREATED:20231001T114256Z
LAST-MODIFIED:20231001T115151Z
UID:345-1697151600-1697167800@geographenkeller.de
SUMMARY:Party der BiWis
DESCRIPTION:Der FSR BiWi lädt ab 23.00 Uhr öffentlich in den Geographenkeller ein.
URL:https://geographenkeller.de/event/party-der-biwis/
LOCATION:Studentenclub Geographenkeller\, Friedrich-Ludwig-Jahn-Straße 16\, Greifswald\, Mecklenburg-Vorpommern\, 17489\, Deutschland
CATEGORIES:Erstiwoche,Party
ATTACH;FMTTYPE=image/png:https://geographenkeller.de/wp-content/uploads/2023/09/Erstiwoche-2023.png
ORGANIZER;CN="Geographenkeller e. V.":MAILTO:mail@geokeller.de
END:VEVENT
BEGIN:VEVENT
DTSTART;TZID=Europe/Helsinki:20231013T220000
DTEND;TZID=Europe/Helsinki:20231014T033000
DTSTAMP:20260425T161917
CREATED:20231001T115041Z
LAST-MODIFIED:20231001T115041Z
UID:348-1697234400-1697254200@geographenkeller.de
SUMMARY:Erstiwoche - Rock
DESCRIPTION:Traditionellerweise spielen wir in der Erstiwoche am Freitag Rock. Auch dieses Jahr ändert sich daran nichts. Wir freuen uns also\, euch auch in der Erstiwoche bei uns zu Rockmusik in unserem Club begrüßen zu dürfen.
URL:https://geographenkeller.de/event/erstiwocke-rock/
LOCATION:Studentenclub Geographenkeller\, Friedrich-Ludwig-Jahn-Straße 16\, Greifswald\, Mecklenburg-Vorpommern\, 17489\, Deutschland
CATEGORIES:Erstiwoche,Freitagsschwof
ATTACH;FMTTYPE=image/png:https://geographenkeller.de/wp-content/uploads/2023/09/Erstiwoche-2023.png
ORGANIZER;CN="Geographenkeller e. V.":MAILTO:mail@geokeller.de
END:VEVENT
BEGIN:VEVENT
DTSTART;TZID=Europe/Helsinki:20231014T220000
DTEND;TZID=Europe/Helsinki:20231015T030000
DTSTAMP:20260425T161917
CREATED:20231001T142304Z
LAST-MODIFIED:20231013T162523Z
UID:350-1697320800-1697338800@geographenkeller.de
SUMMARY:Metalabend
DESCRIPTION:Das neue Semester beginnen wir auch dieses Jahr mit einem traditionellen Metalabend am Samstag der Erstiwoche.\nDie Bar versorgt Euch wie gewohnt mit leckeren Getränken und die Musik kommt dieses Mal von Evil Eddy und Æxl.\nEgal ob neu in der Stadt oder schon lange dabei\, wir freuen uns natürlich auf Euren Besuch.
URL:https://geographenkeller.de/event/metalabend/
LOCATION:Studentenclub Geographenkeller\, Friedrich-Ludwig-Jahn-Straße 16\, Greifswald\, Mecklenburg-Vorpommern\, 17489\, Deutschland
CATEGORIES:Erstiwoche,Metalabend
ATTACH;FMTTYPE=image/jpeg:https://geographenkeller.de/wp-content/uploads/2023/10/Metalabend_14_10_23.jpg
ORGANIZER;CN="Geographenkeller e. V.":MAILTO:mail@geokeller.de
END:VEVENT
BEGIN:VEVENT
DTSTART;TZID=Europe/Helsinki:20231018T190000
DTEND;TZID=Europe/Helsinki:20231019T000000
DTSTAMP:20260425T161917
CREATED:20231011T150636Z
LAST-MODIFIED:20231011T151745Z
UID:384-1697655600-1697673600@geographenkeller.de
SUMMARY:Bar- und Spieleabend
DESCRIPTION:Beim Bar- und Spieleabend habt ihr die Möglichkeit\, mit Freunden Karten- und Brettspiele zu spielen\, zu kickern und neue Leute kennenzulernen.
URL:https://geographenkeller.de/event/bar-und-spieleabend-2/
LOCATION:Studentenclub Geographenkeller\, Friedrich-Ludwig-Jahn-Straße 16\, Greifswald\, Mecklenburg-Vorpommern\, 17489\, Deutschland
CATEGORIES:Barabend
ATTACH;FMTTYPE=image/jpeg:https://geographenkeller.de/wp-content/uploads/2023/09/WhatsApp-Image-2023-09-28-at-18.12.45-e1697713526429.jpeg
ORGANIZER;CN="Geographenkeller e. V.":MAILTO:mail@geokeller.de
END:VEVENT
BEGIN:VEVENT
DTSTART;TZID=Europe/Helsinki:20231020T220000
DTEND;TZID=Europe/Helsinki:20231021T033000
DTSTAMP:20260425T161917
CREATED:20231011T145052Z
LAST-MODIFIED:20231019T085630Z
UID:379-1697839200-1697859000@geographenkeller.de
SUMMARY:Electroswing
DESCRIPTION:DJ Fancypants legt Electroswing auf. Schwingt ab 22.00 Uhr das Tanzbein und genießt kühle Getränke.
URL:https://geographenkeller.de/event/electroswing/
LOCATION:Studentenclub Geographenkeller\, Friedrich-Ludwig-Jahn-Straße 16\, Greifswald\, Mecklenburg-Vorpommern\, 17489\, Deutschland
CATEGORIES:Freitagsschwof,Party
ATTACH;FMTTYPE=image/jpeg:https://geographenkeller.de/wp-content/uploads/2023/10/Flyer_ElectroSwing_Facebook_13.10.2023.jpg
ORGANIZER;CN="Geographenkeller e. V.":MAILTO:mail@geokeller.de
END:VEVENT
BEGIN:VEVENT
DTSTART;TZID=Europe/Helsinki:20231025T190000
DTEND;TZID=Europe/Helsinki:20231026T000000
DTSTAMP:20260425T161917
CREATED:20231013T163223Z
LAST-MODIFIED:20231013T163223Z
UID:396-1698260400-1698278400@geographenkeller.de
SUMMARY:Bar- und Spieleabend
DESCRIPTION:Beim Bar- und Spieleabend habt ihr die Möglichkeit\, mit Freunden Karten- und Brettspiele zu spielen\, zu kickern und neue Leute kennenzulernen.
URL:https://geographenkeller.de/event/bar-und-spieleabend-3/
LOCATION:Studentenclub Geographenkeller\, Friedrich-Ludwig-Jahn-Straße 16\, Greifswald\, Mecklenburg-Vorpommern\, 17489\, Deutschland
CATEGORIES:Barabend
ATTACH;FMTTYPE=image/jpeg:https://geographenkeller.de/wp-content/uploads/2023/09/WhatsApp-Image-2023-09-28-at-18.12.45-e1697713526429.jpeg
ORGANIZER;CN="Geographenkeller e. V.":MAILTO:mail@geokeller.de
END:VEVENT
BEGIN:VEVENT
DTSTART;TZID=Europe/Helsinki:20231027T220000
DTEND;TZID=Europe/Helsinki:20231028T033000
DTSTAMP:20260425T161917
CREATED:20231011T145955Z
LAST-MODIFIED:20231011T145955Z
UID:381-1698444000-1698463800@geographenkeller.de
SUMMARY:Halloween - Mittelalterrock
DESCRIPTION:Halloween naht und wir haben die passende Party. Musikalisch untermalt mit bestem Mittelalterrock.
URL:https://geographenkeller.de/event/halloween-mittelalterrock/
LOCATION:Studentenclub Geographenkeller\, Friedrich-Ludwig-Jahn-Straße 16\, Greifswald\, Mecklenburg-Vorpommern\, 17489\, Deutschland
CATEGORIES:Freitagsschwof,Party
ATTACH;FMTTYPE=image/png:https://geographenkeller.de/wp-content/uploads/2023/09/Monatsflyer_Oktober-2023-2.png
ORGANIZER;CN="Geographenkeller e. V.":MAILTO:mail@geokeller.de
END:VEVENT
END:VCALENDAR