BEGIN:VCALENDAR
VERSION:2.0
PRODID:-//Geographenkeller e.V. - ECPv6.15.20//NONSGML v1.0//EN
CALSCALE:GREGORIAN
METHOD:PUBLISH
X-WR-CALNAME:Geographenkeller e.V.
X-ORIGINAL-URL:https://geographenkeller.de
X-WR-CALDESC:Veranstaltungen für Geographenkeller e.V.
REFRESH-INTERVAL;VALUE=DURATION:PT1H
X-Robots-Tag:noindex
X-PUBLISHED-TTL:PT1H
BEGIN:VTIMEZONE
TZID:Europe/Berlin
BEGIN:DAYLIGHT
TZOFFSETFROM:+0100
TZOFFSETTO:+0200
TZNAME:CEST
DTSTART:20230326T010000
END:DAYLIGHT
BEGIN:STANDARD
TZOFFSETFROM:+0200
TZOFFSETTO:+0100
TZNAME:CET
DTSTART:20231029T010000
END:STANDARD
BEGIN:DAYLIGHT
TZOFFSETFROM:+0100
TZOFFSETTO:+0200
TZNAME:CEST
DTSTART:20240331T010000
END:DAYLIGHT
BEGIN:STANDARD
TZOFFSETFROM:+0200
TZOFFSETTO:+0100
TZNAME:CET
DTSTART:20241027T010000
END:STANDARD
BEGIN:DAYLIGHT
TZOFFSETFROM:+0100
TZOFFSETTO:+0200
TZNAME:CEST
DTSTART:20250330T010000
END:DAYLIGHT
BEGIN:STANDARD
TZOFFSETFROM:+0200
TZOFFSETTO:+0100
TZNAME:CET
DTSTART:20251026T010000
END:STANDARD
END:VTIMEZONE
BEGIN:VEVENT
DTSTART;TZID=Europe/Berlin:20241009T230000
DTEND;TZID=Europe/Berlin:20241010T033000
DTSTAMP:20260425T124824
CREATED:20240924T200519Z
LAST-MODIFIED:20240924T200534Z
UID:1127-1728514800-1728531000@geographenkeller.de
SUMMARY:Koop-Party FSR Geographie
DESCRIPTION:Feiert mit uns und dem FSR Geographie. Ab 23.00 Uhr beginnt der öffentliche Einlass. DJ Altmeyer legt für euch die besten Hits der 80er\, 90er und 2000er auf.
URL:https://geographenkeller.de/event/fsr-geo-koop/
LOCATION:Studentenclub Geographenkeller\, Friedrich-Ludwig-Jahn-Straße 16\, Greifswald\, Mecklenburg-Vorpommern\, 17489\, Deutschland
CATEGORIES:Erstiwoche,Party
ATTACH;FMTTYPE=image/png:https://geographenkeller.de/wp-content/uploads/2024/09/Logo_50-Jahre-1.png
ORGANIZER;CN="Geographenkeller e. V.":MAILTO:mail@geokeller.de
END:VEVENT
END:VCALENDAR