BEGIN:VCALENDAR
VERSION:2.0
PRODID:-//Geographenkeller e.V. - ECPv6.15.20//NONSGML v1.0//EN
CALSCALE:GREGORIAN
METHOD:PUBLISH
X-ORIGINAL-URL:https://geographenkeller.de
X-WR-CALDESC:Veranstaltungen für Geographenkeller e.V.
REFRESH-INTERVAL;VALUE=DURATION:PT1H
X-Robots-Tag:noindex
X-PUBLISHED-TTL:PT1H
BEGIN:VTIMEZONE
TZID:Europe/Paris
BEGIN:DAYLIGHT
TZOFFSETFROM:+0100
TZOFFSETTO:+0200
TZNAME:CEST
DTSTART:20230326T010000
END:DAYLIGHT
BEGIN:STANDARD
TZOFFSETFROM:+0200
TZOFFSETTO:+0100
TZNAME:CET
DTSTART:20231029T010000
END:STANDARD
BEGIN:DAYLIGHT
TZOFFSETFROM:+0100
TZOFFSETTO:+0200
TZNAME:CEST
DTSTART:20240331T010000
END:DAYLIGHT
BEGIN:STANDARD
TZOFFSETFROM:+0200
TZOFFSETTO:+0100
TZNAME:CET
DTSTART:20241027T010000
END:STANDARD
BEGIN:DAYLIGHT
TZOFFSETFROM:+0100
TZOFFSETTO:+0200
TZNAME:CEST
DTSTART:20250330T010000
END:DAYLIGHT
BEGIN:STANDARD
TZOFFSETFROM:+0200
TZOFFSETTO:+0100
TZNAME:CET
DTSTART:20251026T010000
END:STANDARD
END:VTIMEZONE
BEGIN:VTIMEZONE
TZID:Europe/Berlin
BEGIN:DAYLIGHT
TZOFFSETFROM:+0100
TZOFFSETTO:+0200
TZNAME:CEST
DTSTART:20230326T010000
END:DAYLIGHT
BEGIN:STANDARD
TZOFFSETFROM:+0200
TZOFFSETTO:+0100
TZNAME:CET
DTSTART:20231029T010000
END:STANDARD
BEGIN:DAYLIGHT
TZOFFSETFROM:+0100
TZOFFSETTO:+0200
TZNAME:CEST
DTSTART:20240331T010000
END:DAYLIGHT
BEGIN:STANDARD
TZOFFSETFROM:+0200
TZOFFSETTO:+0100
TZNAME:CET
DTSTART:20241027T010000
END:STANDARD
BEGIN:DAYLIGHT
TZOFFSETFROM:+0100
TZOFFSETTO:+0200
TZNAME:CEST
DTSTART:20250330T010000
END:DAYLIGHT
BEGIN:STANDARD
TZOFFSETFROM:+0200
TZOFFSETTO:+0100
TZNAME:CET
DTSTART:20251026T010000
END:STANDARD
END:VTIMEZONE
BEGIN:VEVENT
DTSTART;TZID=Europe/Paris:20240405T220000
DTEND;TZID=Europe/Paris:20240406T030000
DTSTAMP:20260425T134549
CREATED:20240323T112348Z
LAST-MODIFIED:20240401T150737Z
UID:805-1712354400-1712372400@geographenkeller.de
SUMMARY:Ersti-Party
DESCRIPTION:Kommt vorbei zur Party in der Erstiwoche und feiert Euren Studienbeginn oder startet das neue Semester mit einer wilden Party. \nAm 05. April 2024 beginnt um 22:00 Uhr die Partysaison. Der Eintritt ist wie immer 2 €. Erstis kommen mit ihrer Immatrikulationsbescheinigung umsonst rein. Doch denkt dran: Kein Perso\, keine Party!
URL:https://geographenkeller.de/event/ersti-party/
LOCATION:Studentenclub Geographenkeller\, Friedrich-Ludwig-Jahn-Straße 16\, Greifswald\, Mecklenburg-Vorpommern\, 17489\, Deutschland
CATEGORIES:Erstiwoche,Freitagsschwof,Party
ATTACH;FMTTYPE=image/png:https://geographenkeller.de/wp-content/uploads/2024/03/CDFDEF70-21BD-425D-9E33-F9437803E75C.png
END:VEVENT
BEGIN:VEVENT
DTSTART;TZID=Europe/Paris:20240412T220000
DTEND;TZID=Europe/Paris:20240413T030000
DTSTAMP:20260425T134549
CREATED:20240401T154629Z
LAST-MODIFIED:20240402T164138Z
UID:818-1712959200-1712977200@geographenkeller.de
SUMMARY:Punk is not dead - Green Day & Co.
DESCRIPTION:Wir beleben besten PopPunk im Keller. Feiert zu Green Day\, blink-182 und Jimmy Eat World\, aufgelegt von DJ Altmeyer. \nBeginn ist am 12.04.2024 um 22:00 Uhr. Der Eintritt ist wie immer 2€. Und auch hier gilt: Kein Ausweis\, keine Party!
URL:https://geographenkeller.de/event/punk-is-not-dead-green-day-co/
LOCATION:Studentenclub Geographenkeller\, Friedrich-Ludwig-Jahn-Straße 16\, Greifswald\, Mecklenburg-Vorpommern\, 17489\, Deutschland
CATEGORIES:Freitagsschwof,Party
ATTACH;FMTTYPE=image/jpeg:https://geographenkeller.de/wp-content/uploads/2024/04/E6AF98C7-97B1-4F7B-80D7-9A8621B78AFB.jpeg
END:VEVENT
BEGIN:VEVENT
DTSTART;TZID=Europe/Paris:20240413T190000
DTEND;TZID=Europe/Paris:20240414T030000
DTSTAMP:20260425T134549
CREATED:20240401T155722Z
LAST-MODIFIED:20240402T163921Z
UID:821-1713034800-1713063600@geographenkeller.de
SUMMARY:Fear of the Dark - Metalabend
DESCRIPTION:Fürchte das Dunkle – diesmal mit Live-Musik. Denn schon vor unserem traditionellen Metalabend lassen die Bands „Burning Cross“ aus Greifswald und „Nosturaack“ aus Schwerin die Saiten schwingen. Also kommt vorbei und feiert zu bestem Metal. \nEinlass ist am 13.04.2024 um 19:00 Uhr\, die erste Band fängt um 20:00 Uhr an zu spielen. Der Eintritt kostet 8 €\, die Party ist natürlich inklusive.\nDoch auch hier gilt: Kein Perso\, keine Party!
URL:https://geographenkeller.de/event/fear-of-the-dark-metalabend/
LOCATION:Studentenclub Geographenkeller\, Friedrich-Ludwig-Jahn-Straße 16\, Greifswald\, Mecklenburg-Vorpommern\, 17489\, Deutschland
CATEGORIES:Metalabend,Party
ATTACH;FMTTYPE=image/jpeg:https://geographenkeller.de/wp-content/uploads/2024/04/7C5505BD-7618-4D7E-A58F-462E61FDAEF9.jpeg
END:VEVENT
BEGIN:VEVENT
DTSTART;TZID=Europe/Paris:20240419T220000
DTEND;TZID=Europe/Paris:20240420T030000
DTSTAMP:20260425T134549
CREATED:20240414T174109Z
LAST-MODIFIED:20240414T174109Z
UID:837-1713564000-1713582000@geographenkeller.de
SUMMARY:20s meets 20s
DESCRIPTION:Wenn Electro Swing auf neuestes EDM trifft – dann heißt es im Keller wieder 20s meets 20s. \nAm Freitag\, den 19. April 2024 wird aktuellste Musik von DJ Darkside in Kombination mit Klängen des Electro Swings von Mr Fancypants & DJ QuackQuack präsentiert. Also schaut vorbei und tanzt durch die Jahrhunderte.
URL:https://geographenkeller.de/event/20s-meets-20s-2/
LOCATION:Studentenclub Geographenkeller\, Friedrich-Ludwig-Jahn-Straße 16\, Greifswald\, Mecklenburg-Vorpommern\, 17489\, Deutschland
CATEGORIES:Freitagsschwof,Party
ATTACH;FMTTYPE=image/jpeg:https://geographenkeller.de/wp-content/uploads/2024/04/6a5245fa-944f-4e41-a854-8cc5984fc2d1.jpeg
END:VEVENT
BEGIN:VEVENT
DTSTART;TZID=Europe/Berlin:20240426T220000
DTEND;TZID=Europe/Berlin:20240427T040000
DTSTAMP:20260425T134549
CREATED:20240422T145455Z
LAST-MODIFIED:20240422T155713Z
UID:852-1714168800-1714190400@geographenkeller.de
SUMMARY:Rockparty
DESCRIPTION:Freitag ist wieder Rockabend. Also schaut vorbei und springt\, tanzt und feiert zu bestem Rock von DJ Versvender. Partybeginn ist am Freitag\, den 26.04. um 22.00 Uhr. Aber nicht vergessen: Kein Perso\, keine Party!
URL:https://geographenkeller.de/event/rockparty/
LOCATION:Studentenclub Geographenkeller\, Friedrich-Ludwig-Jahn-Straße 16\, Greifswald\, Mecklenburg-Vorpommern\, 17489\, Deutschland
CATEGORIES:Freitagsschwof,Party
ATTACH;FMTTYPE=image/jpeg:https://geographenkeller.de/wp-content/uploads/2024/04/WhatsApp-Bild-2024-04-22-um-18.32.31_e19aed79.jpg
ORGANIZER;CN="Geographenkeller e. V.":MAILTO:mail@geokeller.de
END:VEVENT
END:VCALENDAR