BEGIN:VCALENDAR
VERSION:2.0
PRODID:-//Geographenkeller e.V. - ECPv6.15.20//NONSGML v1.0//EN
CALSCALE:GREGORIAN
METHOD:PUBLISH
X-ORIGINAL-URL:https://geographenkeller.de
X-WR-CALDESC:Veranstaltungen für Geographenkeller e.V.
REFRESH-INTERVAL;VALUE=DURATION:PT1H
X-Robots-Tag:noindex
X-PUBLISHED-TTL:PT1H
BEGIN:VTIMEZONE
TZID:Europe/Berlin
BEGIN:DAYLIGHT
TZOFFSETFROM:+0100
TZOFFSETTO:+0200
TZNAME:CEST
DTSTART:20230326T010000
END:DAYLIGHT
BEGIN:STANDARD
TZOFFSETFROM:+0200
TZOFFSETTO:+0100
TZNAME:CET
DTSTART:20231029T010000
END:STANDARD
BEGIN:DAYLIGHT
TZOFFSETFROM:+0100
TZOFFSETTO:+0200
TZNAME:CEST
DTSTART:20240331T010000
END:DAYLIGHT
BEGIN:STANDARD
TZOFFSETFROM:+0200
TZOFFSETTO:+0100
TZNAME:CET
DTSTART:20241027T010000
END:STANDARD
BEGIN:DAYLIGHT
TZOFFSETFROM:+0100
TZOFFSETTO:+0200
TZNAME:CEST
DTSTART:20250330T010000
END:DAYLIGHT
BEGIN:STANDARD
TZOFFSETFROM:+0200
TZOFFSETTO:+0100
TZNAME:CET
DTSTART:20251026T010000
END:STANDARD
END:VTIMEZONE
BEGIN:VEVENT
DTSTART;TZID=Europe/Berlin:20241107T190000
DTEND;TZID=Europe/Berlin:20241107T220000
DTSTAMP:20260424T160651
CREATED:20241106T192745Z
LAST-MODIFIED:20241106T192745Z
UID:1173-1731006000-1731016800@geographenkeller.de
SUMMARY:Bar- & Spieleabend
DESCRIPTION:Zusammen mit dem FSR Biowissenschaften veranstalten wir jeden Donnerstag den Bar- und Spieleabend. Kommt vorbei\, gönnt Euch ein Getränk und verbringt den Abend mit Kartenspielen\, Kickern\, Darts oder anderen Spielen.
URL:https://geographenkeller.de/event/bar-spieleabend/
LOCATION:Studentenclub Geographenkeller\, Friedrich-Ludwig-Jahn-Straße 16\, Greifswald\, Mecklenburg-Vorpommern\, 17489\, Deutschland
CATEGORIES:Barabend
END:VEVENT
BEGIN:VEVENT
DTSTART;TZID=Europe/Berlin:20241121T190000
DTEND;TZID=Europe/Berlin:20241121T220000
DTSTAMP:20260424T160651
CREATED:20241106T193503Z
LAST-MODIFIED:20241106T193503Z
UID:1179-1732215600-1732226400@geographenkeller.de
SUMMARY:Bar- & Spieleabend
DESCRIPTION:Zusammen mit dem FSR Biowissenschaften veranstalten wir jeden Donnerstag den Bar- und Spieleabend. Kommt vorbei\, gönnt Euch ein Getränk und verbringt den Abend mit Kartenspielen\, Kickern\, Darts oder anderen Spielen.
URL:https://geographenkeller.de/event/bar-spieleabend-3/
LOCATION:Studentenclub Geographenkeller\, Friedrich-Ludwig-Jahn-Straße 16\, Greifswald\, Mecklenburg-Vorpommern\, 17489\, Deutschland
CATEGORIES:Barabend
END:VEVENT
BEGIN:VEVENT
DTSTART;TZID=Europe/Berlin:20241128T190000
DTEND;TZID=Europe/Berlin:20241128T220000
DTSTAMP:20260424T160651
CREATED:20241106T193638Z
LAST-MODIFIED:20241106T193638Z
UID:1182-1732820400-1732831200@geographenkeller.de
SUMMARY:Bar- & Spieleabend
DESCRIPTION:Zusammen mit dem FSR Biowissenschaften veranstalten wir jeden Donnerstag den Bar- und Spieleabend. Kommt vorbei\, gönnt Euch ein Getränk und verbringt den Abend mit Kartenspielen\, Kickern\, Darts oder anderen Spielen.
URL:https://geographenkeller.de/event/bar-spieleabend-4/
LOCATION:Studentenclub Geographenkeller\, Friedrich-Ludwig-Jahn-Straße 16\, Greifswald\, Mecklenburg-Vorpommern\, 17489\, Deutschland
CATEGORIES:Barabend
END:VEVENT
BEGIN:VEVENT
DTSTART;TZID=Europe/Berlin:20241129T220000
DTEND;TZID=Europe/Berlin:20241130T020000
DTSTAMP:20260424T160651
CREATED:20241107T090716Z
LAST-MODIFIED:20241107T090716Z
UID:1184-1732917600-1732932000@geographenkeller.de
SUMMARY:Regenbogenparty
DESCRIPTION:Zusammen mit dem Aktionsbündnis Queer Greifswald tanzen wir am 29.11. in allen Farben. Kommt vorbei und trefft neue Leute an unserer Bar oder tanzt in die Nacht zu 80s\, 90s\, 2000s.
URL:https://geographenkeller.de/event/regenbogenparty/
LOCATION:Studentenclub Geographenkeller\, Friedrich-Ludwig-Jahn-Straße 16\, Greifswald\, Mecklenburg-Vorpommern\, 17489\, Deutschland
CATEGORIES:Freitagsschwof,Party
END:VEVENT
END:VCALENDAR