BEGIN:VCALENDAR
VERSION:2.0
PRODID:-//Geographenkeller e.V. - ECPv6.15.20//NONSGML v1.0//EN
CALSCALE:GREGORIAN
METHOD:PUBLISH
X-ORIGINAL-URL:https://geographenkeller.de
X-WR-CALDESC:Veranstaltungen für Geographenkeller e.V.
REFRESH-INTERVAL;VALUE=DURATION:PT1H
X-Robots-Tag:noindex
X-PUBLISHED-TTL:PT1H
BEGIN:VTIMEZONE
TZID:Europe/Paris
BEGIN:DAYLIGHT
TZOFFSETFROM:+0100
TZOFFSETTO:+0200
TZNAME:CEST
DTSTART:20230326T010000
END:DAYLIGHT
BEGIN:STANDARD
TZOFFSETFROM:+0200
TZOFFSETTO:+0100
TZNAME:CET
DTSTART:20231029T010000
END:STANDARD
BEGIN:DAYLIGHT
TZOFFSETFROM:+0100
TZOFFSETTO:+0200
TZNAME:CEST
DTSTART:20240331T010000
END:DAYLIGHT
BEGIN:STANDARD
TZOFFSETFROM:+0200
TZOFFSETTO:+0100
TZNAME:CET
DTSTART:20241027T010000
END:STANDARD
BEGIN:DAYLIGHT
TZOFFSETFROM:+0100
TZOFFSETTO:+0200
TZNAME:CEST
DTSTART:20250330T010000
END:DAYLIGHT
BEGIN:STANDARD
TZOFFSETFROM:+0200
TZOFFSETTO:+0100
TZNAME:CET
DTSTART:20251026T010000
END:STANDARD
END:VTIMEZONE
BEGIN:VEVENT
DTSTART;TZID=Europe/Paris:20240202T220000
DTEND;TZID=Europe/Paris:20240203T030000
DTSTAMP:20260425T141857
CREATED:20240122T110943Z
LAST-MODIFIED:20240129T101924Z
UID:665-1706911200-1706929200@geographenkeller.de
SUMMARY:2010er
DESCRIPTION:Zum Abschluss unserer Party-Reihe kommen hier die 2010er. Also kommt vorbei und feiert nochmal\, bevor es in die Prüfungen und die vorlesungsfreie Zeit geht. \nBeginn ist wie immer um 22:00 Uhr. Der Eintritt kostet 2€. Und auch gilt: Kein Perso\, keine Party!
URL:https://geographenkeller.de/event/2010er/
LOCATION:Freitagsschwof\, Friedrich-Ludwig-Jahn-Straße 16\, Greifswald\, Mecklenburg-Vorpommern\, 17489\, Deutschland
CATEGORIES:Freitagsschwof,Party
ATTACH;FMTTYPE=image/jpeg:https://geographenkeller.de/wp-content/uploads/2024/01/23B93524-531D-4E68-A82E-8C165C2226D9.jpeg
END:VEVENT
BEGIN:VEVENT
DTSTART;TZID=Europe/Paris:20240210T220000
DTEND;TZID=Europe/Paris:20240211T030000
DTSTAMP:20260425T141857
CREATED:20240126T143009Z
LAST-MODIFIED:20240129T101856Z
UID:678-1707602400-1707620400@geographenkeller.de
SUMMARY:Metal Abend
DESCRIPTION:Es ist wieder Zeit für „Fear of the Dark“. Feiert auf unserer letzten Party des Semesters zu bestem Metal. \nBeginn ist um 22:00 Uhr für 2€. Und denkt dran: Kein Perso\, keine Party.
URL:https://geographenkeller.de/event/metal-abend/
LOCATION:Studentenclub Geographenkeller\, Friedrich-Ludwig-Jahn-Straße 16\, Greifswald\, Mecklenburg-Vorpommern\, 17489\, Deutschland
CATEGORIES:Metalabend,Party
ATTACH;FMTTYPE=image/jpeg:https://geographenkeller.de/wp-content/uploads/2024/01/7FB96314-AC30-4A3A-B6A1-B5A84493F471.jpeg
END:VEVENT
END:VCALENDAR