BEGIN:VCALENDAR
VERSION:2.0
PRODID:-//Geographenkeller e.V. - ECPv6.15.20//NONSGML v1.0//EN
CALSCALE:GREGORIAN
METHOD:PUBLISH
X-ORIGINAL-URL:https://geographenkeller.de
X-WR-CALDESC:Veranstaltungen für Geographenkeller e.V.
REFRESH-INTERVAL;VALUE=DURATION:PT1H
X-Robots-Tag:noindex
X-PUBLISHED-TTL:PT1H
BEGIN:VTIMEZONE
TZID:Europe/Berlin
BEGIN:DAYLIGHT
TZOFFSETFROM:+0100
TZOFFSETTO:+0200
TZNAME:CEST
DTSTART:20230326T010000
END:DAYLIGHT
BEGIN:STANDARD
TZOFFSETFROM:+0200
TZOFFSETTO:+0100
TZNAME:CET
DTSTART:20231029T010000
END:STANDARD
BEGIN:DAYLIGHT
TZOFFSETFROM:+0100
TZOFFSETTO:+0200
TZNAME:CEST
DTSTART:20240331T010000
END:DAYLIGHT
BEGIN:STANDARD
TZOFFSETFROM:+0200
TZOFFSETTO:+0100
TZNAME:CET
DTSTART:20241027T010000
END:STANDARD
BEGIN:DAYLIGHT
TZOFFSETFROM:+0100
TZOFFSETTO:+0200
TZNAME:CEST
DTSTART:20250330T010000
END:DAYLIGHT
BEGIN:STANDARD
TZOFFSETFROM:+0200
TZOFFSETTO:+0100
TZNAME:CET
DTSTART:20251026T010000
END:STANDARD
END:VTIMEZONE
BEGIN:VEVENT
DTSTART;TZID=Europe/Berlin:20241007T220000
DTEND;TZID=Europe/Berlin:20241008T040000
DTSTAMP:20260424T145033
CREATED:20240920T112549Z
LAST-MODIFIED:20240924T203704Z
UID:1048-1728338400-1728360000@geographenkeller.de
SUMMARY:Nacht der offenen Clubs
DESCRIPTION:Die „Nacht der offenen Clubs“ findet\, wie jedes Jahr\, wieder am Montag der Erstiwoche statt. Es öffnen wieder der Geographenkeller\, die Kiste und der C9 ihre Tore. Damit habt ihr die Möglichkeit die Studentenclubs direkt zu Beginn der Erstiwoche in all ihrer Vielfalt zu erleben. Bei uns erwartet euch ein Mix aus den besten Hits der 80er\, 90er und 2000er\, präsentiert von DJ Arcos. Wir freuen uns darauf\, euch auf unserer Tanzfläche begrüßen zu dürfen. \nDer Geographenkeller ist ein ehrenamtlich organisierter Verein. Wir organisieren Partys wie diese\, aber auch andere Veranstaltungen ehrenamtlich. Solltest du Interesse haben\, dich bei uns einzubringen und mitzuhelfen\, sprich uns einfach an. Entweder an der Bierbar oder direkt bei uns auf Sitzung. Selbstverständlich kannst du auch erstmal reinschnuppern um zu schauen\, wie es dir gefällt. \nEin kleiner Hinweis: \nErfahrungsgemäß wird die Schlange bei der Nacht der offenen Clubs sehr lang. Seid also zeitig da\, nehmt aufeinander Rücksicht und folgt den Anweisungen unserer Mitglieder. Und wie immer gilt: Kein Perso\, keine Party.
URL:https://geographenkeller.de/event/nacht-der-offenen-clubs-2/
LOCATION:Studentenclub Geographenkeller\, Friedrich-Ludwig-Jahn-Straße 16\, Greifswald\, Mecklenburg-Vorpommern\, 17489\, Deutschland
CATEGORIES:Erstiwoche,Nacht der offenen Clubs,Party
ATTACH;FMTTYPE=image/png:https://geographenkeller.de/wp-content/uploads/2024/09/Logo_50-Jahre-1.png
ORGANIZER;CN="Geographenkeller e. V.":MAILTO:mail@geokeller.de
END:VEVENT
BEGIN:VEVENT
DTSTART;TZID=Europe/Berlin:20241010T230000
DTEND;TZID=Europe/Berlin:20241011T033000
DTSTAMP:20260424T145033
CREATED:20240924T201252Z
LAST-MODIFIED:20240924T201252Z
UID:1129-1728601200-1728617400@geographenkeller.de
SUMMARY:Koop-Party FSR BiWi
DESCRIPTION:Erstis der BiWis aufgepasst! Der FSR BiWi und der Geokeller laden euch zu einer Koop-Party ein. Es laufen die besten Hits der 80er\, 90er und 2000er. Ab 23.00 kommen auch alle anderen rein\, denn da beginnt der öffentliche Einlass.
URL:https://geographenkeller.de/event/koop-party-fsr-biwi/
LOCATION:Studentenclub Geographenkeller\, Friedrich-Ludwig-Jahn-Straße 16\, Greifswald\, Mecklenburg-Vorpommern\, 17489\, Deutschland
CATEGORIES:Erstiwoche,Party
ATTACH;FMTTYPE=image/png:https://geographenkeller.de/wp-content/uploads/2024/09/Logo_50-Jahre-1.png
ORGANIZER;CN="Geographenkeller e. V.":MAILTO:mail@geokeller.de
END:VEVENT
BEGIN:VEVENT
DTSTART;TZID=Europe/Berlin:20241011T220000
DTEND;TZID=Europe/Berlin:20241012T040000
DTSTAMP:20260424T145033
CREATED:20240924T202053Z
LAST-MODIFIED:20240924T202053Z
UID:1132-1728684000-1728705600@geographenkeller.de
SUMMARY:Rock Party
DESCRIPTION:DJ Versvender beschallt euch mit feinstem Rock. Dazu gibt es\, wie immer\, kalte Getränke und gute Laune. Kommt vorbei\, wir freuen uns auf euch! \nDer Geographenkeller ist ein ehrenamtlich organisierter Verein. Wir organisieren Partys wie diese\, aber auch andere Veranstaltungen ehrenamtlich. Solltest du Interesse haben\, dich bei uns einzubringen und mitzuhelfen\, sprich uns einfach an. Entweder an der Bierbar oder direkt bei uns auf Sitzung. Selbstverständlich kannst du auch erstmal reinschnuppern um zu schauen\, wie es dir gefällt.
URL:https://geographenkeller.de/event/rock-party-4/
LOCATION:Studentenclub Geographenkeller\, Friedrich-Ludwig-Jahn-Straße 16\, Greifswald\, Mecklenburg-Vorpommern\, 17489\, Deutschland
CATEGORIES:Erstiwoche,Freitagsschwof,Party
ATTACH;FMTTYPE=image/png:https://geographenkeller.de/wp-content/uploads/2024/09/Logo_50-Jahre-1.png
ORGANIZER;CN="Geographenkeller e. V.":MAILTO:mail@geokeller.de
END:VEVENT
BEGIN:VEVENT
DTSTART;TZID=Europe/Berlin:20241018T220000
DTEND;TZID=Europe/Berlin:20241019T040000
DTSTAMP:20260424T145033
CREATED:20240924T202539Z
LAST-MODIFIED:20241014T180548Z
UID:1134-1729288800-1729310400@geographenkeller.de
SUMMARY:20s meets 20s
DESCRIPTION:Electroswing trifft auf die beste Musik der letzen 20 Jahre. Präsentiert wird euch das Spektakel von Mr. Fancypants und DJ Darkside. \nDer Geographenkeller ist ein ehrenamtlich organisierter Verein. Wir organisieren Partys wie diese\, aber auch andere Veranstaltungen ehrenamtlich. Solltest du Interesse haben\, dich bei uns einzubringen und mitzuhelfen\, sprich uns einfach an. Entweder an der Bierbar oder direkt bei uns auf Sitzung. Selbstverständlich kannst du auch erstmal reinschnuppern um zu schauen\, wie es dir gefällt.
URL:https://geographenkeller.de/event/20s-meets-20s-3/
LOCATION:Studentenclub Geographenkeller\, Friedrich-Ludwig-Jahn-Straße 16\, Greifswald\, Mecklenburg-Vorpommern\, 17489\, Deutschland
CATEGORIES:Freitagsschwof,Party
ATTACH;FMTTYPE=image/jpeg:https://geographenkeller.de/wp-content/uploads/2024/09/Flyer_18.10.24_Facebook.jpeg
ORGANIZER;CN="Geographenkeller e. V.":MAILTO:mail@geokeller.de
END:VEVENT
BEGIN:VEVENT
DTSTART;TZID=Europe/Berlin:20241025T220000
DTEND;TZID=Europe/Berlin:20241026T040000
DTSTAMP:20260424T145033
CREATED:20240924T203107Z
LAST-MODIFIED:20240924T203107Z
UID:1136-1729893600-1729915200@geographenkeller.de
SUMMARY:Guilty Pleasure
DESCRIPTION:Wir alle haben Musik\, die wir heimlich und nur für uns hören. Wir haben unter unseren Mitgliedern Songs gesammelt und präsentieren und unsere „Guilty Pleasures“. Macht euch gefasst auf einen wilden Mix! \nDer Geographenkeller ist ein ehrenamtlich organisierter Verein. Wir organisieren Partys wie diese\, aber auch andere Veranstaltungen ehrenamtlich. Solltest du Interesse haben\, dich bei uns einzubringen und mitzuhelfen\, sprich uns einfach an. Entweder an der Bierbar oder direkt bei uns auf Sitzung. Selbstverständlich kannst du auch erstmal reinschnuppern um zu schauen\, wie es dir gefällt.
URL:https://geographenkeller.de/event/guilty-pleasure/
LOCATION:Studentenclub Geographenkeller\, Friedrich-Ludwig-Jahn-Straße 16\, Greifswald\, Mecklenburg-Vorpommern\, 17489\, Deutschland
CATEGORIES:Freitagsschwof,Party
ATTACH;FMTTYPE=image/png:https://geographenkeller.de/wp-content/uploads/2024/09/Logo_50-Jahre-1.png
ORGANIZER;CN="Geographenkeller e. V.":MAILTO:mail@geokeller.de
END:VEVENT
END:VCALENDAR