BEGIN:VCALENDAR
VERSION:2.0
PRODID:-//Geographenkeller e.V. - ECPv6.15.20//NONSGML v1.0//EN
CALSCALE:GREGORIAN
METHOD:PUBLISH
X-ORIGINAL-URL:https://geographenkeller.de
X-WR-CALDESC:Veranstaltungen für Geographenkeller e.V.
REFRESH-INTERVAL;VALUE=DURATION:PT1H
X-Robots-Tag:noindex
X-PUBLISHED-TTL:PT1H
BEGIN:VTIMEZONE
TZID:Europe/Berlin
BEGIN:DAYLIGHT
TZOFFSETFROM:+0100
TZOFFSETTO:+0200
TZNAME:CEST
DTSTART:20230326T010000
END:DAYLIGHT
BEGIN:STANDARD
TZOFFSETFROM:+0200
TZOFFSETTO:+0100
TZNAME:CET
DTSTART:20231029T010000
END:STANDARD
BEGIN:DAYLIGHT
TZOFFSETFROM:+0100
TZOFFSETTO:+0200
TZNAME:CEST
DTSTART:20240331T010000
END:DAYLIGHT
BEGIN:STANDARD
TZOFFSETFROM:+0200
TZOFFSETTO:+0100
TZNAME:CET
DTSTART:20241027T010000
END:STANDARD
BEGIN:DAYLIGHT
TZOFFSETFROM:+0100
TZOFFSETTO:+0200
TZNAME:CEST
DTSTART:20250330T010000
END:DAYLIGHT
BEGIN:STANDARD
TZOFFSETFROM:+0200
TZOFFSETTO:+0100
TZNAME:CET
DTSTART:20251026T010000
END:STANDARD
END:VTIMEZONE
BEGIN:VEVENT
DTSTART;TZID=Europe/Berlin:20241108T220000
DTEND;TZID=Europe/Berlin:20241109T020000
DTSTAMP:20260424T133735
CREATED:20241102T185359Z
LAST-MODIFIED:20241102T185359Z
UID:1160-1731103200-1731117600@geographenkeller.de
SUMMARY:Nordische Party
DESCRIPTION:Am 08.11. veranstalten wir zusammen mit dem FSR Nordistik eine 80s\, 90s\, 2000s Party. DJ Darkside legt neben den Klassikern auch Hits aus dem Norden auf.
URL:https://geographenkeller.de/event/nordische-party/
LOCATION:Studentenclub Geographenkeller\, Friedrich-Ludwig-Jahn-Straße 16\, Greifswald\, Mecklenburg-Vorpommern\, 17489\, Deutschland
CATEGORIES:Freitagsschwof,Party
ATTACH;FMTTYPE=image/jpeg:https://geographenkeller.de/wp-content/uploads/2024/11/IMG_2594.jpeg
END:VEVENT
BEGIN:VEVENT
DTSTART;TZID=Europe/Berlin:20241115T210000
DTEND;TZID=Europe/Berlin:20241116T020000
DTSTAMP:20260424T133735
CREATED:20241102T185925Z
LAST-MODIFIED:20241102T185925Z
UID:1162-1731704400-1731722400@geographenkeller.de
SUMMARY:Profs@turntables
DESCRIPTION:Es ist wieder Zeit für die besten Hits Eurer Lieblingsprofs!
URL:https://geographenkeller.de/event/profsturntables-2/
LOCATION:Studentenclub Geographenkeller\, Friedrich-Ludwig-Jahn-Straße 16\, Greifswald\, Mecklenburg-Vorpommern\, 17489\, Deutschland
CATEGORIES:Freitagsschwof,Party
ATTACH;FMTTYPE=image/jpeg:https://geographenkeller.de/wp-content/uploads/2024/11/IMG_2600.jpeg
END:VEVENT
BEGIN:VEVENT
DTSTART;TZID=Europe/Berlin:20241122T220000
DTEND;TZID=Europe/Berlin:20241123T020000
DTSTAMP:20260424T133735
CREATED:20241102T190251Z
LAST-MODIFIED:20241102T190251Z
UID:1166-1732312800-1732327200@geographenkeller.de
SUMMARY:Drum & Base
DESCRIPTION:Enter the Base\, join the Rave! Im Keller läuft am 22.11. Drum&Bass. Kommt vorbei und feiert mit uns.
URL:https://geographenkeller.de/event/drum-base/
LOCATION:Studentenclub Geographenkeller\, Friedrich-Ludwig-Jahn-Straße 16\, Greifswald\, Mecklenburg-Vorpommern\, 17489\, Deutschland
CATEGORIES:Freitagsschwof,Party
END:VEVENT
BEGIN:VEVENT
DTSTART;TZID=Europe/Berlin:20241129T220000
DTEND;TZID=Europe/Berlin:20241130T020000
DTSTAMP:20260424T133735
CREATED:20241107T090716Z
LAST-MODIFIED:20241107T090716Z
UID:1184-1732917600-1732932000@geographenkeller.de
SUMMARY:Regenbogenparty
DESCRIPTION:Zusammen mit dem Aktionsbündnis Queer Greifswald tanzen wir am 29.11. in allen Farben. Kommt vorbei und trefft neue Leute an unserer Bar oder tanzt in die Nacht zu 80s\, 90s\, 2000s.
URL:https://geographenkeller.de/event/regenbogenparty/
LOCATION:Studentenclub Geographenkeller\, Friedrich-Ludwig-Jahn-Straße 16\, Greifswald\, Mecklenburg-Vorpommern\, 17489\, Deutschland
CATEGORIES:Freitagsschwof,Party
END:VEVENT
END:VCALENDAR