BEGIN:VCALENDAR
VERSION:2.0
PRODID:-//Geographenkeller e.V. - ECPv6.15.20//NONSGML v1.0//EN
CALSCALE:GREGORIAN
METHOD:PUBLISH
X-WR-CALNAME:Geographenkeller e.V.
X-ORIGINAL-URL:https://geographenkeller.de
X-WR-CALDESC:Veranstaltungen für Geographenkeller e.V.
REFRESH-INTERVAL;VALUE=DURATION:PT1H
X-Robots-Tag:noindex
X-PUBLISHED-TTL:PT1H
BEGIN:VTIMEZONE
TZID:Europe/Berlin
BEGIN:DAYLIGHT
TZOFFSETFROM:+0100
TZOFFSETTO:+0200
TZNAME:CEST
DTSTART:20230326T010000
END:DAYLIGHT
BEGIN:STANDARD
TZOFFSETFROM:+0200
TZOFFSETTO:+0100
TZNAME:CET
DTSTART:20231029T010000
END:STANDARD
BEGIN:DAYLIGHT
TZOFFSETFROM:+0100
TZOFFSETTO:+0200
TZNAME:CEST
DTSTART:20240331T010000
END:DAYLIGHT
BEGIN:STANDARD
TZOFFSETFROM:+0200
TZOFFSETTO:+0100
TZNAME:CET
DTSTART:20241027T010000
END:STANDARD
BEGIN:DAYLIGHT
TZOFFSETFROM:+0100
TZOFFSETTO:+0200
TZNAME:CEST
DTSTART:20250330T010000
END:DAYLIGHT
BEGIN:STANDARD
TZOFFSETFROM:+0200
TZOFFSETTO:+0100
TZNAME:CET
DTSTART:20251026T010000
END:STANDARD
END:VTIMEZONE
BEGIN:VTIMEZONE
TZID:UTC
BEGIN:STANDARD
TZOFFSETFROM:+0000
TZOFFSETTO:+0000
TZNAME:UTC
DTSTART:20230101T000000
END:STANDARD
END:VTIMEZONE
BEGIN:VTIMEZONE
TZID:Europe/Paris
BEGIN:DAYLIGHT
TZOFFSETFROM:+0100
TZOFFSETTO:+0200
TZNAME:CEST
DTSTART:20230326T010000
END:DAYLIGHT
BEGIN:STANDARD
TZOFFSETFROM:+0200
TZOFFSETTO:+0100
TZNAME:CET
DTSTART:20231029T010000
END:STANDARD
BEGIN:DAYLIGHT
TZOFFSETFROM:+0100
TZOFFSETTO:+0200
TZNAME:CEST
DTSTART:20240331T010000
END:DAYLIGHT
BEGIN:STANDARD
TZOFFSETFROM:+0200
TZOFFSETTO:+0100
TZNAME:CET
DTSTART:20241027T010000
END:STANDARD
BEGIN:DAYLIGHT
TZOFFSETFROM:+0100
TZOFFSETTO:+0200
TZNAME:CEST
DTSTART:20250330T010000
END:DAYLIGHT
BEGIN:STANDARD
TZOFFSETFROM:+0200
TZOFFSETTO:+0100
TZNAME:CET
DTSTART:20251026T010000
END:STANDARD
END:VTIMEZONE
BEGIN:VEVENT
DTSTART;TZID=Europe/Berlin:20240503T220000
DTEND;TZID=Europe/Berlin:20240504T040000
DTSTAMP:20260425T184006
CREATED:20240422T155615Z
LAST-MODIFIED:20240427T114626Z
UID:855-1714773600-1714795200@geographenkeller.de
SUMMARY:EDM
DESCRIPTION:Beste Electronic Dance Music mit Hoang aus dem Mensaclub. Kommt vorbei und schnuppert auf unserer Tanzfläche wieder ein bisschen Mensaluft.
URL:https://geographenkeller.de/event/edm-im-geokeller/
LOCATION:Studentenclub Geographenkeller\, Friedrich-Ludwig-Jahn-Straße 16\, Greifswald\, Mecklenburg-Vorpommern\, 17489\, Deutschland
CATEGORIES:Freitagsschwof,Party
ATTACH;FMTTYPE=image/png:https://geographenkeller.de/wp-content/uploads/2024/04/special-promo-Facebook-Post.png
ORGANIZER;CN="Geographenkeller e. V.":MAILTO:mail@geokeller.de
END:VEVENT
BEGIN:VEVENT
DTSTART;TZID=Europe/Berlin:20240508T190000
DTEND;TZID=Europe/Berlin:20240509T000000
DTSTAMP:20260425T184006
CREATED:20240422T144741Z
LAST-MODIFIED:20240422T144741Z
UID:850-1715194800-1715212800@geographenkeller.de
SUMMARY:Bar- und Spieleabend
DESCRIPTION:Unser Bar- und Spieleabend findet immer mittwochs ab 19.00 Uhr statt. Hier habt ihr die Möglichkeit\, mit Freunden Brett- und Kartenspiele zu spielen\, zu kickern\, neue Leute kennenzulernen\, oder euch mit unseren Mitgliedern auszutauschen. Selbstverständlich verkaufen wir auch bei unseren Barabenden kalte Getränke und stellen Snacks bereit. Für euer Wohl ist also gesorgt. 😉
URL:https://geographenkeller.de/event/spieleabend-2/
LOCATION:Studentenclub Geographenkeller\, Friedrich-Ludwig-Jahn-Straße 16\, Greifswald\, Mecklenburg-Vorpommern\, 17489\, Deutschland
CATEGORIES:Barabend
ATTACH;FMTTYPE=image/jpeg:https://geographenkeller.de/wp-content/uploads/2023/09/WhatsApp-Image-2023-09-28-at-18.12.45-e1697713526429.jpeg
ORGANIZER;CN="Geographenkeller e. V.":MAILTO:mail@geokeller.de
END:VEVENT
BEGIN:VEVENT
DTSTART;TZID=Europe/Berlin:20240510T220000
DTEND;TZID=Europe/Berlin:20240511T040000
DTSTAMP:20260425T184006
CREATED:20240422T162124Z
LAST-MODIFIED:20240505T154700Z
UID:861-1715378400-1715400000@geographenkeller.de
SUMMARY:ESC-Warmup
DESCRIPTION:Auch dieses Jahr findet wieder unsere ESC-Warmup Party statt. Tanzt euch durch die Geschichte des Eurovision Song Contests und bringt euch in Stimmung für das Finale!
URL:https://geographenkeller.de/event/esc-warmup/
LOCATION:Studentenclub Geographenkeller\, Friedrich-Ludwig-Jahn-Straße 16\, Greifswald\, Mecklenburg-Vorpommern\, 17489\, Deutschland
CATEGORIES:Freitagsschwof,Party
ATTACH;FMTTYPE=image/png:https://geographenkeller.de/wp-content/uploads/2024/04/Dein-Abschnittstext-1920-x-1080-px.png
ORGANIZER;CN="Geographenkeller e. V.":MAILTO:mail@geokeller.de
END:VEVENT
BEGIN:VEVENT
DTSTART;TZID=UTC:20240517T220000
DTEND;TZID=UTC:20240518T030000
DTSTAMP:20260425T184006
CREATED:20240505T160330Z
LAST-MODIFIED:20240505T160458Z
UID:904-1715983200-1716001200@geographenkeller.de
SUMMARY:Nacht der Photonen - 80s\, 90s\, 2000s
DESCRIPTION:Kommt zur Aftershow der Podiumsdiskussion zu uns in den Keller und feiert die Nacht der Photonen. Musik der 80s\, 90s\, 2000s\, aufgelegt von DJ Solkatten\, wird in unseren heiligen Hallen erklingen. Wir freuen uns auf Euch! \nDer Eintritt wird für diesen Abend kostenlos sein. Ihr dürft aber gerne einen kleinen Beitrag für das Greifswalder Frauenhaus sowie SeaEye Greifswald spenden:)
URL:https://geographenkeller.de/event/nacht-der-photonen-80s-90s-2000s/
LOCATION:Studentenclub Geographenkeller\, Friedrich-Ludwig-Jahn-Straße 16\, Greifswald\, Mecklenburg-Vorpommern\, 17489\, Deutschland
CATEGORIES:Freitagsschwof,Party
ATTACH;FMTTYPE=image/jpeg:https://geographenkeller.de/wp-content/uploads/2024/05/IMG_D6565057F04B-1-1.jpeg
END:VEVENT
BEGIN:VEVENT
DTSTART;TZID=Europe/Paris:20240524T220000
DTEND;TZID=Europe/Paris:20240525T150000
DTSTAMP:20260425T184006
CREATED:20240506T163841Z
LAST-MODIFIED:20240516T140022Z
UID:910-1716588000-1716649200@geographenkeller.de
SUMMARY:Ampelparty - Alternative Rock
DESCRIPTION:Rot\, Gelb oder doch Grün? Du hast die Qual der Wahl! Komm am 24. Mai vorbei und finde deine Farbe\, während bester Alternative Rock läuft.
URL:https://geographenkeller.de/event/ampelparty-alternative-rock/
LOCATION:Studentenclub Geographenkeller\, Friedrich-Ludwig-Jahn-Straße 16\, Greifswald\, Mecklenburg-Vorpommern\, 17489\, Deutschland
CATEGORIES:Freitagsschwof,Party
ATTACH;FMTTYPE=image/jpeg:https://geographenkeller.de/wp-content/uploads/2024/05/a48c3d66-1f8d-4a1f-a750-42675f680441.jpeg
END:VEVENT
BEGIN:VEVENT
DTSTART;TZID=Europe/Berlin:20240531T220000
DTEND;TZID=Europe/Berlin:20240601T030000
DTSTAMP:20260425T184006
CREATED:20240527T175325Z
LAST-MODIFIED:20240527T175325Z
UID:933-1717192800-1717210800@geographenkeller.de
SUMMARY:Rock Party
DESCRIPTION:Es wird laut\, es wird wild\, es wird Rock! Kommt ab 22:00 Uhr vorbei und tanzt\, bis Ihr nicht mehr könnt. Doch denkt dran: Kein Perso\, keine Party!
URL:https://geographenkeller.de/event/rock-party-2/
LOCATION:Freitagsschwof\, Friedrich-Ludwig-Jahn-Straße 16\, Greifswald\, Mecklenburg-Vorpommern\, 17489\, Deutschland
CATEGORIES:Freitagsschwof,Party
ATTACH;FMTTYPE=image/png:https://geographenkeller.de/wp-content/uploads/2024/05/rock_im_Geokeller_Facebook-Post.png
END:VEVENT
END:VCALENDAR