BEGIN:VCALENDAR
VERSION:2.0
PRODID:-//Geographenkeller e.V. - ECPv6.15.20//NONSGML v1.0//EN
CALSCALE:GREGORIAN
METHOD:PUBLISH
X-WR-CALNAME:Geographenkeller e.V.
X-ORIGINAL-URL:https://geographenkeller.de
X-WR-CALDESC:Veranstaltungen für Geographenkeller e.V.
REFRESH-INTERVAL;VALUE=DURATION:PT1H
X-Robots-Tag:noindex
X-PUBLISHED-TTL:PT1H
BEGIN:VTIMEZONE
TZID:Europe/Berlin
BEGIN:DAYLIGHT
TZOFFSETFROM:+0100
TZOFFSETTO:+0200
TZNAME:CEST
DTSTART:20230326T010000
END:DAYLIGHT
BEGIN:STANDARD
TZOFFSETFROM:+0200
TZOFFSETTO:+0100
TZNAME:CET
DTSTART:20231029T010000
END:STANDARD
BEGIN:DAYLIGHT
TZOFFSETFROM:+0100
TZOFFSETTO:+0200
TZNAME:CEST
DTSTART:20240331T010000
END:DAYLIGHT
BEGIN:STANDARD
TZOFFSETFROM:+0200
TZOFFSETTO:+0100
TZNAME:CET
DTSTART:20241027T010000
END:STANDARD
BEGIN:DAYLIGHT
TZOFFSETFROM:+0100
TZOFFSETTO:+0200
TZNAME:CEST
DTSTART:20250330T010000
END:DAYLIGHT
BEGIN:STANDARD
TZOFFSETFROM:+0200
TZOFFSETTO:+0100
TZNAME:CET
DTSTART:20251026T010000
END:STANDARD
END:VTIMEZONE
BEGIN:VEVENT
DTSTART;TZID=Europe/Berlin:20240719T180000
DTEND;TZID=Europe/Berlin:20240719T230000
DTSTAMP:20260425T145852
CREATED:20240710T174221Z
LAST-MODIFIED:20240710T174221Z
UID:1009-1721412000-1721430000@geographenkeller.de
SUMMARY:Semesterabschluss
DESCRIPTION:Das Warten hat ein Ende! Denn beim Geographenkeller heißt es pünktlich zum Semesterende: Lasst die Party steigen! \nDank einer Sondergenehmigung können wir mit Euch das Semester gebührend feiern. Dazu gehört Hitze \, ein Trip durch die 80er\, 90er\, 2000er mit DJ Altmeyer und natürlich unser altbekanntes Sortiment;) \nKommt also am 19.07.2024 ab 18.00 Uhr zu uns in den Innenhof und tanzt unter freiem Himmel in die Nacht hinein. Doch auch bei der Party gilt: Kein Perso\, keine Party!
URL:https://geographenkeller.de/event/semesterabschluss/
LOCATION:Studentenclub Geographenkeller\, Friedrich-Ludwig-Jahn-Straße 16\, Greifswald\, Mecklenburg-Vorpommern\, 17489\, Deutschland
CATEGORIES:Freitagsschwof,Party,Semesterabschluss
ATTACH;FMTTYPE=image/jpeg:https://geographenkeller.de/wp-content/uploads/2024/07/67edca1f-b0a5-4d1e-a317-85ba73844fd6.jpeg
END:VEVENT
END:VCALENDAR